BEGIN:VCALENDAR
VERSION:2.0
PRODID:-//Christmas in Killarney - ECPv6.15.20//NONSGML v1.0//EN
CALSCALE:GREGORIAN
METHOD:PUBLISH
X-ORIGINAL-URL:https://christmasinkillarney.com
X-WR-CALDESC:Events for Christmas in Killarney
REFRESH-INTERVAL;VALUE=DURATION:PT1H
X-Robots-Tag:noindex
X-PUBLISHED-TTL:PT1H
BEGIN:VTIMEZONE
TZID:UTC
BEGIN:STANDARD
TZOFFSETFROM:+0000
TZOFFSETTO:+0000
TZNAME:UTC
DTSTART:20240101T000000
END:STANDARD
END:VTIMEZONE
BEGIN:VEVENT
DTSTART;TZID=UTC:20251220T180000
DTEND;TZID=UTC:20251220T190000
DTSTAMP:20260419T183147
CREATED:20240812T100323Z
LAST-MODIFIED:20251013T120339Z
UID:987491070-1766253600-1766257200@christmasinkillarney.com
SUMMARY:Magic Parade 20th Dec
DESCRIPTION:
URL:https://christmasinkillarney.com/event/christmas-in-killarney-magic-parade-20th-dec-2025/
LOCATION:Killarney
CATEGORIES:Parade
ATTACH;FMTTYPE=image/webp:https://christmasinkillarney.com/wp-content/uploads/2024/08/Magic-Parade.webp
ORGANIZER;CN="Christmas In Killarney":MAILTO:info@christmasinkillarney.com
END:VEVENT
BEGIN:VEVENT
DTSTART;TZID=UTC:20251213T180000
DTEND;TZID=UTC:20251213T190000
DTSTAMP:20260419T183147
CREATED:20240812T100236Z
LAST-MODIFIED:20251212T162920Z
UID:987491068-1765648800-1765652400@christmasinkillarney.com
SUMMARY:Magic Parade 13th Dec - Weather Permitting - please check social media on the morning of 13th
DESCRIPTION:
URL:https://christmasinkillarney.com/event/christmas-in-killarney-magic-parade-13th-dec-2025/
LOCATION:Killarney
CATEGORIES:Parade
ATTACH;FMTTYPE=image/webp:https://christmasinkillarney.com/wp-content/uploads/2024/08/Magic-Parade.webp
ORGANIZER;CN="Christmas In Killarney":MAILTO:info@christmasinkillarney.com
END:VEVENT
BEGIN:VEVENT
DTSTART;TZID=UTC:20251206T180000
DTEND;TZID=UTC:20251206T190000
DTSTAMP:20260419T183147
CREATED:20240812T095824Z
LAST-MODIFIED:20251013T120308Z
UID:987491063-1765044000-1765047600@christmasinkillarney.com
SUMMARY:Magic Parade 6th Dec
DESCRIPTION:
URL:https://christmasinkillarney.com/event/christmas-in-killarney-magic-parade-6th-dec-2025/
LOCATION:Killarney
CATEGORIES:Parade
ATTACH;FMTTYPE=image/webp:https://christmasinkillarney.com/wp-content/uploads/2024/08/Magic-Parade.webp
ORGANIZER;CN="Christmas In Killarney":MAILTO:info@christmasinkillarney.com
END:VEVENT
BEGIN:VEVENT
DTSTART;TZID=UTC:20251129T180000
DTEND;TZID=UTC:20251129T190000
DTSTAMP:20260419T183147
CREATED:20240812T095530Z
LAST-MODIFIED:20251013T120247Z
UID:987491060-1764439200-1764442800@christmasinkillarney.com
SUMMARY:Magic Parade 29th Nov
DESCRIPTION:
URL:https://christmasinkillarney.com/event/christmas-in-killarney-magic-parade-29th-nov-2025/
LOCATION:Killarney
CATEGORIES:Parade
ATTACH;FMTTYPE=image/webp:https://christmasinkillarney.com/wp-content/uploads/2024/08/Magic-Parade.webp
ORGANIZER;CN="Christmas In Killarney":MAILTO:info@christmasinkillarney.com
END:VEVENT
END:VCALENDAR